BEGIN:VCALENDAR
PRODID:NingEventWidget-v1
VERSION:2.0
METHOD:PUBLISH
BEGIN:VEVENT
UID:5167423:Event:315235
DTSTAMP:20260422T003710Z
SUMMARY:Louisville Fire Car Show 2023
DESCRIPTION:SATURDAY, JULY 1, 2023 AT 10 AM – 4 PM\nLouisville Fire 
 Car Show\n\n\nFor more information visit https://northeastwheelsevents
 .com/events/louisville-fire-car-show-2023
DTSTART:20230701T140000Z
DTEND:20230701T200000Z
CATEGORIES:car, show
LOCATION:Louisville Volunteer Fire Department
WEBSITE:https://www.facebook.com/photo?fbid=673111914822953&amp;set=a.
 620269743440504
URL:https://www.facebook.com/photo?fbid=673111914822953&amp;set=a.6202
 69743440504
CONTACT:
ORGANIZER:Chris Hutchins
ATTACH;FMTTYPE="image/jpeg":
ATTENDEE;ROLE=REQ-PARTICIPANT;PARTSTAT=ACCEPTED;RSVP=TRUE;CN=CrazyJerr
 y:https://northeastwheelsevents.com/profile/CrazyJerry
END:VEVENT
END:VCALENDAR
