BEGIN:VCALENDAR
PRODID:NingEventWidget-v1
VERSION:2.0
METHOD:PUBLISH
BEGIN:VEVENT
UID:5167423:Event:158603
DTSTAMP:20260423T024855Z
SUMMARY:Ludwig's Corner Car Show &amp; Flea Market
DESCRIPTION:Hosted by Historical Car Club of PA  Rain or Shine - Dash 
 Plaques to the first 250 registered vehicles in attendance. Open to al
 l cars (non-judged show)\nFree Admission to the Horse Show for all reg
 istered vehicles and their occupants. Food Concessions, Juried Craftsm
 en & Vendors at the Horse Show & Country Fair. Bring the Family.\nEven
 t Information\n\nFor more information visit https://northeastwheelseve
 nts.com/events/ludwig-s-corner-car-show-amp-flea-market
DTSTART:20170904T130000Z
DTEND:20170904T190000Z
CATEGORIES:open, to, the, public
LOCATION:Ludwig's Corner Horse Show &amp; Country Fair
WEBSITE:https://www.google.com/maps/place/5+Nantmeal+Rd,+Glenmoore,+PA
 +19343/@40.1199321,-75.699329,17z/data=!3m1!4b1!4m5!3m4!1s0x89c68a6f2f
 8efbe7:0xe77f221fe8926f85!8m2!3d40.119928!4d-75.697135
URL:https://www.google.com/maps/place/5+Nantmeal+Rd,+Glenmoore,+PA+193
 43/@40.1199321,-75.699329,17z/data=!3m1!4b1!4m5!3m4!1s0x89c68a6f2f8efb
 e7:0xe77f221fe8926f85!8m2!3d40.119928!4d-75.697135
CONTACT:
ORGANIZER;CN="Ludwig&#039;s Corner Country Fair":https://northeastwhee
 lsevents.com/profile/Ludwig039sCornerCountryFair
ATTACH;FMTTYPE="image/jpeg":
ATTENDEE;ROLE=REQ-PARTICIPANT;PARTSTAT=ACCEPTED;RSVP=TRUE;CN="Ludwig&#
 039;s Corner Country Fair":https://northeastwheelsevents.com/profile/L
 udwig039sCornerCountryFair
END:VEVENT
END:VCALENDAR
