BEGIN:VCALENDAR
PRODID:NingEventWidget-v1
VERSION:2.0
METHOD:PUBLISH
BEGIN:VEVENT
UID:5167423:Event:40710
DTSTAMP:20260422T214758Z
SUMMARY:Luke William Hahn Foundation Truck and Car Show
DESCRIPTION:The Second Annual LWH Foundation Truck and Car show benefi
 ts the Luke William Hahn Foundation. Our organization was created to h
 onor our son, Luke, who died in an accident in 2010. Our foundation pr
 ovides grief support groups to children and adults in our community, a
  monetary scholarship to a senior from our school district as well as 
 donates to the organization, Families First for their after-school pro
 gram. Come join us at our event for a day of family fun, amazing vehic
 les, a Monster Truck appearance, great food and various crafters and v
 endors.  Please visit our FB page -Luke William Hahn Foundation for m
 ore details!!\n\nFor more information visit https://northeastwheelseve
 nts.com/events/luke-william-hahn-foundation-truck-and-car-show
DTSTART:20140607T140000Z
DTEND:20140607T190000Z
CATEGORIES:non, profit, fundraiser
LOCATION:Weona Park
WEBSITE:
URL:
CONTACT:6108638697
ORGANIZER;CN="Dana Hahn":https://northeastwheelsevents.com/profile/Dan
 aHahn
ATTACH;FMTTYPE="image/jpeg":
ATTENDEE;ROLE=REQ-PARTICIPANT;PARTSTAT=ACCEPTED;RSVP=TRUE;CN="Dana Hah
 n":https://northeastwheelsevents.com/profile/DanaHahn
END:VEVENT
END:VCALENDAR
