BEGIN:VCALENDAR
PRODID:NingEventWidget-v1
VERSION:2.0
METHOD:PUBLISH
BEGIN:VEVENT
UID:5167423:Event:80278
DTSTAMP:20260422T074922Z
SUMMARY:LVMC Poker Run
DESCRIPTION:Join us for a fun ride on Sunday, July 5th!\n \nSign ups 
 start at 9 am!  Last sign in at 1 pm.\n \nEnjoy a relaxing ride on a
  beautiful summer day!\n \nLebanon Valley Motorcycle Club is located 
 at 11 South 22nd Street in Lebanon, PA.\n \n\nFor more information vi
 sit https://northeastwheelsevents.com/events/lvmc-poker-run
DTSTART:20150705T130000Z
DTEND:20150705T180000Z
CATEGORIES:poker, run
LOCATION:Lebanon Valley Motorcycle Club
WEBSITE:http://www.lebanonvalleymc.com/
URL:http://www.lebanonvalleymc.com/
CONTACT:717-270-96797
ORGANIZER;CN="LVMC Biker Faire":https://northeastwheelsevents.com/prof
 ile/LVMCBikerFaire
ATTACH;FMTTYPE="image/jpeg":http://storage.ning.com/topology/rest/1.0/
 file/get/2284073241?profile=original
ATTENDEE;ROLE=REQ-PARTICIPANT;PARTSTAT=ACCEPTED;RSVP=TRUE;CN="LVMC Bik
 er Faire":https://northeastwheelsevents.com/profile/LVMCBikerFaire
END:VEVENT
END:VCALENDAR
