BEGIN:VCALENDAR
PRODID:NingEventWidget-v1
VERSION:2.0
METHOD:PUBLISH
BEGIN:VEVENT
UID:5167423:Event:315226
DTSTAMP:20260422T224504Z
SUMMARY:Manheim Sertoma Classic Car Show, Ciderfest & Chicken BBQ
DESCRIPTION:\n\nFor more information visit https://northeastwheelseven
 ts.com/events/manheim-sertoma-classic-car-show-ciderfest-amp-chicken-b
 bq
DTSTART:20230910T140000Z
DTEND:20230910T190000Z
CATEGORIES:fundraiser, for, the, food, bank, and, smoke, alarms, deaf
LOCATION:Elstonville Sportman's Association
WEBSITE:
URL:
CONTACT:717-824-2658
ORGANIZER:Wendy Wood
ATTACH;FMTTYPE="image/jpeg":
ATTENDEE;ROLE=REQ-PARTICIPANT;PARTSTAT=ACCEPTED;RSVP=TRUE;CN="Dean Sco
 tt":https://northeastwheelsevents.com/profile/DeanScott
END:VEVENT
END:VCALENDAR
