BEGIN:VCALENDAR
PRODID:NingEventWidget-v1
VERSION:2.0
METHOD:PUBLISH
BEGIN:VEVENT
UID:5167423:Event:71515
DTSTAMP:20260422T105232Z
SUMMARY:Marysville Spring Car Show
DESCRIPTION:First 100 entries receive a Dash Plaque.\nJudging will be 
 done by entrants.\nRegistration is from 8:00am - 11:00am.\n1st, 2nd, a
 nd 3rd Place Trophies in all 14 Classes and a Best of Show Trophy.\n\n
 All proceeds benefit the Marysville Borough Swimming Pool. \n\nFor ad
 ditional information or questions, please call 717-957-3110 or go to m
 arysvilleboro.com to review a registration form.\n\nFor more informati
 on visit https://northeastwheelsevents.com/events/marysville-spring-ca
 r-show-1
DTSTART:20150516T130000Z
DTEND:20150516T190000Z
CATEGORIES:fundraiser
LOCATION:Marysville Lions Club
WEBSITE:http://www.marysvilleboro.com
URL:http://www.marysvilleboro.com
CONTACT:717-957-3110
ORGANIZER;CN="Marysville Borough Recreation":https://northeastwheelsev
 ents.com/profile/MarysvilleBoroughRecreation
ATTACH;FMTTYPE="image/jpeg":
ATTENDEE;ROLE=REQ-PARTICIPANT;PARTSTAT=ACCEPTED;RSVP=TRUE;CN="Marysvil
 le Borough Recreation":https://northeastwheelsevents.com/profile/Marys
 villeBoroughRecreation
END:VEVENT
END:VCALENDAR
