BEGIN:VCALENDAR
PRODID:NingEventWidget-v1
VERSION:2.0
METHOD:PUBLISH
BEGIN:VEVENT
UID:5167423:Event:101689
DTSTAMP:20260424T175250Z
SUMMARY:Masquerade Ball at America On Wheels Museum
DESCRIPTION:6:00pm - 10:00pm\n\nCall 610-432-4200 for more information
 .\n\nFor more information visit https://northeastwheelsevents.com/even
 ts/masquerade-ball-at-america-on-wheels-museum
DTSTART:20161104T220000Z
DTEND:20161105T020000Z
CATEGORIES:family, friends, museum, cars, trucks, bikes, gala
LOCATION:America On Wheels Museum
WEBSITE:http://americaonwheels.org/
URL:http://americaonwheels.org/
CONTACT:610-432-4200
ORGANIZER:America On Wheels Museum
ATTACH;FMTTYPE="image/jpeg":http://storage.ning.com/topology/rest/1.0/
 file/get/2284065500?profile=original
ATTENDEE;ROLE=REQ-PARTICIPANT;PARTSTAT=ACCEPTED;RSVP=TRUE;CN="America 
 On Wheels Museum":https://northeastwheelsevents.com/profile/americaonw
 heels
END:VEVENT
END:VCALENDAR
