BEGIN:VCALENDAR
PRODID:NingEventWidget-v1
VERSION:2.0
METHOD:PUBLISH
BEGIN:VEVENT
UID:5167423:Event:310752
DTSTAMP:20260421T214738Z
SUMMARY:MCCNE Annual Rhode Island Summer Car Show
DESCRIPTION:All, Makes, Models & Vintages of both FOREIGN & DOMESTIC A
 utomobiles are WELCOME!\nALL SHOW CARS will be CLUB JUDGED on Cleanlin
 ess, Workmanship, Condition, Fit and Finish (except 2021 and up; popul
 ar vote)\nNOTE: Fire Extinguishers are required in all show vehicles!\
 nShow Hours: 9:00AM to 3:00PM; Car Registrations: 9:00AM to 12:00PM, E
 ntry fee: $15.00\nSpectators are welcome. Admission is FREE! (Sorry NO
  Vendor Spaces)\n50/50 Raffle to benefit the Tomorrow Fund.\n\nFor mor
 e information visit https://northeastwheelsevents.com/events/mccne-ann
 ual-rhode-island-summer-car-show
DTSTART:20230806T130000Z
DTEND:20230806T190000Z
CATEGORIES:car, show
LOCATION:Bally’s Twin River Lincoln
WEBSITE:http://www.mccne.com
URL:http://www.mccne.com
CONTACT:4014470221
ORGANIZER:MCCNE Rhode Island Director
ATTACH;FMTTYPE="image/jpeg":https://storage.ning.com/topology/rest/1.0
 /file/get/10961607699?profile=original
ATTENDEE;ROLE=REQ-PARTICIPANT;PARTSTAT=ACCEPTED;RSVP=TRUE;CN="MCCNE Sh
 ow Coordinator":https://northeastwheelsevents.com/profile/MCCNEShowCoo
 rdinator
END:VEVENT
END:VCALENDAR
