BEGIN:VCALENDAR
PRODID:NingEventWidget-v1
VERSION:2.0
METHOD:PUBLISH
BEGIN:VEVENT
UID:5167423:Event:311902
DTSTAMP:20260422T103333Z
SUMMARY:MCCNE Hollis Hills All Wheels Car Show
DESCRIPTION:All, Makes, Models & Vintages of both FOREIGN & DOMESTIC A
 utomobiles are WELCOME!\nALL SHOW CARS will be CLUB JUDGED on Cleanlin
 ess, Workmanship, Condition, Fit and Finish (except 2021 and up; popul
 ar vote)\nNOTE: Fire Extinguishers are required in all show vehicles!\
 nShow Hours: 9:00AM to 3:00PM; Car Registrations: 9:00AM to 12:00PM; E
 ntry fee: $20.00\nSpectators are welcome. Admission & Parking are FREE
 ! (Sorry NO Vendor Spaces)\n50/50 Raffle to benefit our designated 202
 3 charity.\n\nFor more information visit https://northeastwheelsevents
 .com/events/mccne-hollis-hills-all-wheels-car-show-1
DTSTART:20230709T130000Z
DTEND:20230709T190000Z
CATEGORIES:car, show
LOCATION:Hollis Hills Farm
WEBSITE:http://www.mccne.com
URL:http://www.mccne.com
CONTACT:9786185724
ORGANIZER:MCCNE NE Director
ATTACH;FMTTYPE="image/jpeg":https://storage.ning.com/topology/rest/1.0
 /file/get/10979259059?profile=original
ATTENDEE;ROLE=REQ-PARTICIPANT;PARTSTAT=ACCEPTED;RSVP=TRUE;CN="MCCNE Sh
 ow Coordinator":https://northeastwheelsevents.com/profile/MCCNEShowCoo
 rdinator
END:VEVENT
END:VCALENDAR
