BEGIN:VCALENDAR
PRODID:NingEventWidget-v1
VERSION:2.0
METHOD:PUBLISH
BEGIN:VEVENT
UID:5167423:Event:326476
DTSTAMP:20260425T065340Z
SUMMARY:MCCNE Johnston RI All Wheels Car Show
DESCRIPTION:All, Makes, Models & Vintages of both FOREIGN & DOMESTIC A
 utomobiles are WELCOME! ALL SHOW CARS will be CLUB JUDGED on Cleanline
 ss, Workmanship, Condition, Fit and Finish (except 2022 and up will be
  popular vote) NOTE: Fire Extinguishers are required in all show vehic
 les! Show Hours: 9:00AM to 3:00PM; Car Registrations: 9:00AM to 12:00P
 M, Entry fee: $20.00 Spectators are welcome. Admission is FREE! Vendor
  fee is a voluntary donation to our designated charity! Vendor Setup: 
 8:00 AM. 50/50 Raffle to benefit our designated 2024 charity.\n\nFor m
 ore information visit https://northeastwheelsevents.com/events/mccne-j
 ohnston-ri-all-wheels-car-show-1
DTSTART:20240608T130000Z
DTEND:20240608T190000Z
CATEGORIES:car, show
LOCATION:Johnston War Memorial Park
WEBSITE:http://www.mccne.com
URL:http://www.mccne.com
CONTACT:4014470221
ORGANIZER:MCCNE State Director
ATTACH;FMTTYPE="image/jpeg":https://storage.ning.com/topology/rest/1.0
 /file/get/12427940483?profile=original
ATTENDEE;ROLE=REQ-PARTICIPANT;PARTSTAT=ACCEPTED;RSVP=TRUE;CN="MCCNE Sh
 ow Coordinator":https://northeastwheelsevents.com/profile/MCCNEShowCoo
 rdinator
END:VEVENT
END:VCALENDAR
