BEGIN:VCALENDAR
PRODID:NingEventWidget-v1
VERSION:2.0
METHOD:PUBLISH
BEGIN:VEVENT
UID:5167423:Event:144838
DTSTAMP:20260423T165636Z
SUMMARY:MCCPA Cruise In/Car Show
DESCRIPTION:Registration is FREE and will be from 11am – 12:30pm. 
  Goodie Bags will be handed out and there will be three $25.00 gift c
 ards awarded at 1pm for Best Stock, Best Modified and Best Engine Comp
 artment. Open to all makes and models .\n\nFor more information visit
  https://northeastwheelsevents.com/events/mccpa-cruise-in-car-show
DTSTART:20170415T150000Z
DTEND:20170415T170000Z
CATEGORIES:cruise, "in/", car, show
LOCATION:Sizzle N Chill
WEBSITE:
URL:
CONTACT:
ORGANIZER:Mustang Club of Central PA
ATTACH;FMTTYPE="image/jpeg":http://storage.ning.com/topology/rest/1.0/
 file/get/2284098166?profile=original
ATTENDEE;ROLE=REQ-PARTICIPANT;PARTSTAT=ACCEPTED;RSVP=TRUE;CN="John Yak
 ubowski":https://northeastwheelsevents.com/profile/JohnYakubowski
END:VEVENT
END:VCALENDAR
