BEGIN:VCALENDAR
PRODID:NingEventWidget-v1
VERSION:2.0
METHOD:PUBLISH
BEGIN:VEVENT
UID:5167423:Event:143799
DTSTAMP:20260423T003326Z
SUMMARY:MCCPA's 14th Annual Mustang Round Up
DESCRIPTION:12 Classes plus a Focus/Fiesta Class\nTop 3 Trophies in ea
 ch class\nFood* Music* Door Prizes* Exhaust Competition* And More !\nP
 re-Registration Deadline August 28th. Pre-Register at www.pamustang.or
 g\nPre-Registration $15\nDay of Show $20\nRegistration 9am to 11:30am\
 nVoting 11:30am to 1:00pm\nExhaust Competition 1:15pm\nAwards Followin
 g Exhaust Competition\n\nFor more information visit https://northeastw
 heelsevents.com/events/mccpa-s-14th-annual-mustang-round-up
DTSTART:20170902T130000Z
DTEND:20170902T180000Z
CATEGORIES:car, show
LOCATION:Carlisle Fairgrounds
WEBSITE:http://www.pamustang.org
URL:http://www.pamustang.org
CONTACT:
ORGANIZER:Mustang Club of Central PA
ATTACH;FMTTYPE="image/jpeg":http://storage.ning.com/topology/rest/1.0/
 file/get/2284096754?profile=original
ATTENDEE;ROLE=REQ-PARTICIPANT;PARTSTAT=ACCEPTED;RSVP=TRUE;CN="John Yak
 ubowski":https://northeastwheelsevents.com/profile/JohnYakubowski
END:VEVENT
END:VCALENDAR
