BEGIN:VCALENDAR
PRODID:NingEventWidget-v1
VERSION:2.0
METHOD:PUBLISH
BEGIN:VEVENT
UID:5167423:Event:329266
DTSTAMP:20260426T002135Z
SUMMARY:McGraw Fire Department Annual Car Show
DESCRIPTION:Come out and enjoy a great day of fun, food, music and aws
 ome cars. Sunday, August 25, 2024, 8am-3pm. Explore antique fire appar
 atice, street rods, muscle cars, old and new, antique cars, tractors, 
 custom motorcycles and more! Free registration for fire apparatus! Ant
 igue Tractor Pulls! Early Bird breakfast will be served! Vendors, 50/5
 0 raffle, door prizes and Awards! Pre registration is $12, day of show
 , $15! Show at McGraw Community Center in McGraw Recreation Park. Easy
  on/off I 81! Hosted by the McGraw Fire Department. For info. and sign
  up, contact jaysaar70@yahoo.com or call 607-836-4263 or 607-836-4123,
  leave a message please! \r\nCheck McGraw Fire Department info. on ou
 r facebook page. \r\n\n\nFor more information visit https://northeast
 wheelsevents.com/events/mcgraw-fire-department-annual-car-show
DTSTART:20240825T130000Z
DTEND:20240825T190000Z
CATEGORIES:carshow, tractorpulls
LOCATION:McGraw Recreation Park
WEBSITE:https://www.experiencecortland.com/events/mcgraw-fire-departme
 nt-annual-car-show-1/
URL:https://www.experiencecortland.com/events/mcgraw-fire-department-a
 nnual-car-show-1/
CONTACT:607-836-4263
ORGANIZER:MFD
ATTACH;FMTTYPE="image/jpeg":https://storage.ning.com/topology/rest/1.0
 /file/get/12664419497?profile=original
ATTENDEE;ROLE=REQ-PARTICIPANT;PARTSTAT=ACCEPTED;RSVP=TRUE;CN="William 
 Bruce":https://northeastwheelsevents.com/profile/WilliamBruce
END:VEVENT
END:VCALENDAR
