BEGIN:VCALENDAR
PRODID:NingEventWidget-v1
VERSION:2.0
METHOD:PUBLISH
BEGIN:VEVENT
UID:5167423:Event:23820
DTSTAMP:20260422T234810Z
SUMMARY:Mega Mopar Action Series
DESCRIPTION:2013 Mega Mopar Action Series\n\nFor more information visi
 t https://northeastwheelsevents.com/events/mega-mopar-action-series
DTSTART:20130622T120000Z
DTEND:20130623T230000Z
CATEGORIES:mega, mopar, action, series
LOCATION:Maple Grove Raceway
WEBSITE:http://www.maplegroveraceway.com/blog/?page_id=9306
URL:http://www.maplegroveraceway.com/blog/?page_id=9306
CONTACT:
ORGANIZER:Forward Sports Marketing
ATTACH;FMTTYPE="image/jpeg":http://storage.ning.com/topology/rest/1.0/
 file/get/2284051616?profile=original
ATTENDEE;ROLE=REQ-PARTICIPANT;PARTSTAT=ACCEPTED;RSVP=TRUE;CN="Megan Me
 yer":https://northeastwheelsevents.com/profile/MeganMeyer
END:VEVENT
END:VCALENDAR
