BEGIN:VCALENDAR
PRODID:NingEventWidget-v1
VERSION:2.0
METHOD:PUBLISH
BEGIN:VEVENT
UID:5167423:Event:239975
DTSTAMP:20260423T004041Z
SUMMARY:Memorial Day Community Celebration
DESCRIPTION:Join us for the 7th annual Memorial Day Community Celebrat
 ion at 4 p.m. on Monday, May 27, 2019, at the Rockingham County Fairgr
 ounds (VA)! Festivities include concerts, food vendors, a classic car 
 cruise-in, entertainment for children, and much more! Checkout our web
  page for details or follow 'Steve Wingfield, Evangelist' on Facebook 
 for the latest updates! \n\nFor more information visit https://northe
 astwheelsevents.com/events/memorial-day-community-celebration-1
DTSTART:20190527T200000Z
DTEND:20190528T000000Z
CATEGORIES:festival
LOCATION:Rockingham County Fairgrounds
WEBSITE:https://www.stevewingfield.org/events/memorial-day-community-c
 elebration-2019/
URL:https://www.stevewingfield.org/events/memorial-day-community-celeb
 ration-2019/
CONTACT:8007292239
ORGANIZER:Steve Wingfield Evangelistic Association
ATTACH;FMTTYPE="image/jpeg":
ATTENDEE;ROLE=REQ-PARTICIPANT;PARTSTAT=ACCEPTED;RSVP=TRUE;CN="Jessica 
 Taylor":https://northeastwheelsevents.com/profile/JessicaTaylor
END:VEVENT
END:VCALENDAR
