BEGIN:VCALENDAR
PRODID:NingEventWidget-v1
VERSION:2.0
METHOD:PUBLISH
BEGIN:VEVENT
UID:5167423:Event:138916
DTSTAMP:20260423T191150Z
SUMMARY:Metro Porsche Club 61st Snowflake Rally
DESCRIPTION:Got cabin fever yet? Come out have some fun with fellow ra
 llist and the novice to. We have 2 classes experienced and new to rall
 ying-trophies warded to 1-5 winners. Fee: Pre-registration PCA members
 $40, other $50. DAY of event: PCA member $50 other: $60. Pre-register 
 at metronypca.org more info Rich Mooers @631-513-0089 or MGZABC.net\n\
 nFor more information visit https://northeastwheelsevents.com/events/m
 etro-porsche-club-61st-snowflake-rally
DTSTART:20170129T140000Z
DTEND:20170129T200000Z
CATEGORIES:rally
LOCATION:Hauppauge Palace Diner
WEBSITE:http://metronypca.org
URL:http://metronypca.org
CONTACT:631-513-0089
ORGANIZER:Richie Mooers
ATTACH;FMTTYPE="image/jpeg":http://storage.ning.com/topology/rest/1.0/
 file/get/2284091510?profile=original
ATTENDEE;ROLE=REQ-PARTICIPANT;PARTSTAT=ACCEPTED;RSVP=TRUE;CN="ginger S
 agau":https://northeastwheelsevents.com/profile/gingerSagau
END:VEVENT
END:VCALENDAR
