BEGIN:VCALENDAR
PRODID:NingEventWidget-v1
VERSION:2.0
METHOD:PUBLISH
BEGIN:VEVENT
UID:5167423:Event:139935
DTSTAMP:20260423T110023Z
SUMMARY:METUCHEN RESCUE SQUAD BENEFIT CAR-TRUCK-MOTORCYCLE SHOW
DESCRIPTION:OPEN TO ALL MAKES, YEARS, & MODELS OF VEHICLES\n\nPRE-REG 
 COST (BEFORE 8-7-2017):\n\n$10.00/CARLOAD\n\nDAY-OF SHOW: $15.00\n\nSP
 ONSOR** PICK TROPHIES\nSquad Captain's CHOICE  TROPHY\nLONGEST DISTANC
 E AWARD\n\n**PROXIES ASSIGNED AS  NEEDED\n\n*RAIN DATE: 8-20-2017\n\nS
 HOW SPONSOR FORM, TROPHY SPONSOR FORM, AND SHOW FLYER AT http://www.me
 trescuesquad.com\n\nFor more information visit https://northeastwheels
 events.com/events/metuchen-rescue-squad-benefit-car-truck-motorcycle-s
 how-4
DTSTART:20170813T140000Z
DTEND:20170813T190000Z
CATEGORIES:car-truck-motorcycle, show
LOCATION:METUCHEN HIGH SCHOOL,
WEBSITE:http://www.metrescuesquad.com
URL:http://www.metrescuesquad.com
CONTACT:732-549-2478 (7-10:00 P.M. M-F)
ORGANIZER;CN="Ben Deutschman":https://northeastwheelsevents.com/profil
 e/BenDeutschman439
ATTACH;FMTTYPE="image/jpeg":http://storage.ning.com/topology/rest/1.0/
 file/get/2284092944?profile=original
ATTENDEE;ROLE=REQ-PARTICIPANT;PARTSTAT=ACCEPTED;RSVP=TRUE;CN="Ben Deut
 schman":https://northeastwheelsevents.com/profile/BenDeutschman439
END:VEVENT
END:VCALENDAR
