BEGIN:VCALENDAR
PRODID:NingEventWidget-v1
VERSION:2.0
METHOD:PUBLISH
BEGIN:VEVENT
UID:5167423:Event:169851
DTSTAMP:20260425T080023Z
SUMMARY:Mid Atlantic Indoor Nationals Car Truck and Bike Show Oaks, PA
DESCRIPTION:\n\nFor more information visit https://northeastwheelseven
 ts.com/events/mid-atlantic-indoor-nationals-car-truck-and-bike-show-oa
 ks-pa
DTSTART:20180407T130000Z
DTEND:20180408T200000Z
CATEGORIES:car, truck, and, bike, show
LOCATION:Philadelphia Expo Center
WEBSITE:http://www.midatlanticindoornats.com
URL:http://www.midatlanticindoornats.com
CONTACT:Swisher 717 269-2625 or Andy 717 307-5466
ORGANIZER:Mid Atlantic Indoor Nats
ATTACH;FMTTYPE="image/jpeg":http://storage.ning.com/topology/rest/1.0/
 file/get/1057046678?profile=original
ATTENDEE;ROLE=REQ-PARTICIPANT;PARTSTAT=ACCEPTED;RSVP=TRUE;CN="Car Show
 s Little Helper":https://northeastwheelsevents.com/profile/CarShowsLit
 tleHelper
END:VEVENT
END:VCALENDAR
