BEGIN:VCALENDAR
PRODID:NingEventWidget-v1
VERSION:2.0
METHOD:PUBLISH
BEGIN:VEVENT
UID:5167423:Event:243037
DTSTAMP:20260420T151346Z
SUMMARY:Mid-Atlantic Nostalgia Drag Racing Association (MANDRA)
DESCRIPTION:Racing at Cecil County\n\nFor more information visit https
 ://northeastwheelsevents.com/events/mid-atlantic-nostalgia-drag-racing
 -association-mandra-10
DTSTART:20190608T040000Z
DTEND:20190609T035900Z
CATEGORIES:nostalgia, drag, race
LOCATION:Maple Grove Raceway
WEBSITE:http://www.maplegroveraceway.com
URL:http://www.maplegroveraceway.com
CONTACT:
ORGANIZER:MANDRA
ATTACH;FMTTYPE="image/jpeg":https://storage.ning.com/topology/rest/1.0
 /file/get/2079687855?profile=original
ATTENDEE;ROLE=REQ-PARTICIPANT;PARTSTAT=TENTATIVE;RSVP=TRUE;CN="Frank G
 iallonardo":https://northeastwheelsevents.com/profile/FrankGiallonardo
END:VEVENT
END:VCALENDAR
