BEGIN:VCALENDAR
PRODID:NingEventWidget-v1
VERSION:2.0
METHOD:PUBLISH
BEGIN:VEVENT
UID:5167423:Event:243041
DTSTAMP:20260419T200043Z
SUMMARY:Mid-Atlantic Nostalgia Drag Racing Association (MANDRA)
DESCRIPTION:Racing at South Mountain Raceway\n\nFor more information v
 isit https://northeastwheelsevents.com/events/mid-atlantic-nostalgia-d
 rag-racing-association-mandra-12
DTSTART:20190721T040000Z
DTEND:20190722T035900Z
CATEGORIES:nostalgia, drag, race
LOCATION:South Mountain Raceway
WEBSITE:http://www.southmountainraceway.com
URL:http://www.southmountainraceway.com
CONTACT:
ORGANIZER:MANDRA
ATTACH;FMTTYPE="image/jpeg":https://storage.ning.com/topology/rest/1.0
 /file/get/2079687855?profile=original
END:VEVENT
END:VCALENDAR
