BEGIN:VCALENDAR
PRODID:NingEventWidget-v1
VERSION:2.0
METHOD:PUBLISH
BEGIN:VEVENT
UID:5167423:Event:243169
DTSTAMP:20260422T231834Z
SUMMARY:Mid-Atlantic Nostalgia Drag Racing Association (MANDRA)
DESCRIPTION:Racing at Numidia Dragway\n\nFor more information visit ht
 tps://northeastwheelsevents.com/events/mid-atlantic-nostalgia-drag-rac
 ing-association-mandra-7
DTSTART:20190511T040000Z
DTEND:20190512T035900Z
CATEGORIES:nostalgia, drag, racing
LOCATION:Numidia Dragway
WEBSITE:http://www.numidiadragway.com
URL:http://www.numidiadragway.com
CONTACT:
ORGANIZER:MANDRA
ATTACH;FMTTYPE="image/jpeg":https://storage.ning.com/topology/rest/1.0
 /file/get/2079687855?profile=original
END:VEVENT
END:VCALENDAR
