BEGIN:VCALENDAR
PRODID:NingEventWidget-v1
VERSION:2.0
METHOD:PUBLISH
BEGIN:VEVENT
UID:5167423:Event:243033
DTSTAMP:20260422T135412Z
SUMMARY:Mid-Atlantic Nostalgia Drag Racing Association (MANDRA)
DESCRIPTION:Racing at Beaver Springs\n\nFor more information visit htt
 ps://northeastwheelsevents.com/events/mid-atlantic-nostalgia-drag-raci
 ng-association-mandra-8
DTSTART:20190525T120000Z
DTEND:20190526T220000Z
CATEGORIES:nostalgia, drag, racing
LOCATION:Beaver Springs Dragway
WEBSITE:http://beaversprings.com
URL:http://beaversprings.com
CONTACT:
ORGANIZER:MANDRA
ATTACH;FMTTYPE="image/jpeg":https://storage.ning.com/topology/rest/1.0
 /file/get/2079687855?profile=original
END:VEVENT
END:VCALENDAR
