BEGIN:VCALENDAR
PRODID:NingEventWidget-v1
VERSION:2.0
METHOD:PUBLISH
BEGIN:VEVENT
UID:5167423:Event:68637
DTSTAMP:20260422T062323Z
SUMMARY:Mid Atlantic Pre War Swap Meet
DESCRIPTION:The Mid-Atlantic Pre War Swap Meet will offer Auto,Transpo
 rtation,Steam & Gasoline Power Plant, Antique Tools, and Farm Equipmen
 t related items from the 1800's through the 1940's\n\nFor more informa
 tion visit https://northeastwheelsevents.com/events/mid-atlantic-pre-w
 ar-swap-meet
DTSTART:20150514T110000Z
DTEND:20150516T210000Z
CATEGORIES:swap, meet
LOCATION:Comer-Jones VFW Post 621
WEBSITE:http://www.mapwsm.com
URL:http://www.mapwsm.com
CONTACT:540-860-1384
ORGANIZER;CN="Dennis Fleming":https://northeastwheelsevents.com/profil
 e/DennisFleming
ATTACH;FMTTYPE="image/jpeg":
ATTENDEE;ROLE=REQ-PARTICIPANT;PARTSTAT=ACCEPTED;RSVP=TRUE;CN="Dennis F
 leming":https://northeastwheelsevents.com/profile/DennisFleming
END:VEVENT
END:VCALENDAR
