BEGIN:VCALENDAR
PRODID:NingEventWidget-v1
VERSION:2.0
METHOD:PUBLISH
BEGIN:VEVENT
UID:5167423:Event:38328
DTSTAMP:20260424T140523Z
SUMMARY:Mid-Atlantic Women's Motorcycle Rally
DESCRIPTION:Celebrating it's 22nd Anniversary, the Mid-Atlantic Women'
 s Motorcycle Rally is the premiere women's motorcycling event on the E
 ast Coast! We are a 501(c)3 Non-Profit organization that raises money 
 for women and their families facing hardships due to the challenges of
  cancer. Come for one day or the entire weekend and enjoy theme partie
 s, biker games, ride-in bike show, dances, banquet, Parade Of Chrome, 
 music, rides and tours, vendors and so much more! Ladies only! Check o
 ut our website for early registration specials and loads of photos fro
 m past events!\n\nFor more information visit https://northeastwheelsev
 ents.com/events/mid-atlantic-women-s-motorcycle-rally
DTSTART:20140619T140000Z
DTEND:20140622T030000Z
CATEGORIES:fundraiser, rally
LOCATION:The Days Inn,  Gettysburg, PA
WEBSITE:http://www.mawmr.org
URL:http://www.mawmr.org
CONTACT:410-468-3388
ORGANIZER:MAWMR Executive Board
ATTACH;FMTTYPE="image/jpeg":http://storage.ning.com/topology/rest/1.0/
 file/get/2284055856?profile=original
ATTENDEE;ROLE=REQ-PARTICIPANT;PARTSTAT=ACCEPTED;RSVP=TRUE;CN="Dawn McD
 ermott":https://northeastwheelsevents.com/profile/DawnMcDermott
END:VEVENT
END:VCALENDAR
