BEGIN:VCALENDAR
PRODID:NingEventWidget-v1
VERSION:2.0
METHOD:PUBLISH
BEGIN:VEVENT
UID:5167423:Event:336740
DTSTAMP:20260421T074559Z
SUMMARY:Mini Cooper Welcome to 2025
DESCRIPTION:On 3/30 Sunday 11am-2pm. Join us at the meetup to celebrat
 e the iconic Mini Cooper — a car that’s as unique as its drivers! 
 Known for its distinctive compact design and go-kart-like handling, th
 e Mini is a true blend of style, performance, and personality. Whether
  you're a long-time fan or a recent convert, you'll appreciate the cha
 rm and fun that only a Mini can deliver. Let’s see how these little 
 legends pack a big punch on the road. See you at the Ace!\r\nEvery 3 m
 onths on last Sunday 11am-2pm! Any questions? enquiries@acecafenewhop
 e.com\n\nFor more information visit https://northeastwheelsevents.com/
 events/mini-cooper-welcome-to-2025-1
DTSTART:20250330T150000Z
DTEND:20250330T180000Z
CATEGORIES:cruisein
LOCATION:Ace Cafe New Hope
WEBSITE:https://www.acecafenewhope.com/event-details-registration/mini
 -cooper-welcome-to-2025
URL:https://www.acecafenewhope.com/event-details-registration/mini-coo
 per-welcome-to-2025
CONTACT:215-862-2730
ORGANIZER:Ace Cafe New Hope
ATTACH;FMTTYPE="image/jpeg":https://storage.ning.com/topology/rest/1.0
 /file/get/13328156861?profile=original
ATTENDEE;ROLE=REQ-PARTICIPANT;PARTSTAT=ACCEPTED;RSVP=TRUE;CN="William 
 Bruce":https://northeastwheelsevents.com/profile/WilliamBruce
END:VEVENT
END:VCALENDAR
