BEGIN:VCALENDAR
PRODID:NingEventWidget-v1
VERSION:2.0
METHOD:PUBLISH
BEGIN:VEVENT
UID:5167423:Event:249388
DTSTAMP:20260422T073013Z
SUMMARY:MINI Matchup at The Simeone Museum!
DESCRIPTION:Please join us at The Simeone Museum as we celebrate 60 ye
 ars of the Mini! The exhibition starts July 18th and runs through Augu
 st 4th. \n\nYou'll see examples from the early 60's up to modern day.
  \n\nClick the link for tickets. Thank you, and we hope to see you he
 re!\n\nFor more information visit https://northeastwheelsevents.com/ev
 ents/mini-matchup-at-the-simeone-museum
DTSTART:20190718T140000Z
DTEND:20190804T200000Z
CATEGORIES:exhibition
LOCATION:The Simeone Museum
WEBSITE:https://www.simeonemuseum.org/visit/purchase-tickets/
URL:https://www.simeonemuseum.org/visit/purchase-tickets/
CONTACT:215-365-7233
ORGANIZER;CN="The Simeone Museum":https://northeastwheelsevents.com/pr
 ofile/TheSimeoneMuseum
ATTACH;FMTTYPE="image/jpeg":https://storage.ning.com/topology/rest/1.0
 /file/get/3331233001?profile=original
ATTENDEE;ROLE=REQ-PARTICIPANT;PARTSTAT=ACCEPTED;RSVP=TRUE;CN="The Sime
 one Museum":https://northeastwheelsevents.com/profile/TheSimeoneMuseum
END:VEVENT
END:VCALENDAR
