BEGIN:VCALENDAR
PRODID:NingEventWidget-v1
VERSION:2.0
METHOD:PUBLISH
BEGIN:VEVENT
UID:5167423:Event:66537
DTSTAMP:20260421T224654Z
SUMMARY:Misericordia University's Classic Car Show
DESCRIPTION:Presented by Pi Theta Epsilon, Occupational Therapy Honor 
 Society\nhttp://storage.ning.com/topology/rest/1.0/file/get/2284069454
 ?profile=original\n April 25th, 2015  12:00pm-4:00pm (11:00am registr
 ation)\nMisericordia University North Gate Lot\n Food – Music – 50
 /50 – Raffles – Certificates - Prizes\n Pre-Registration fee $10.0
 0 >>> $12.00 Day of the Show\n For information or to register your car
 , call Emily: 845-709-0589\n\nPlease send a completed pre reg form to 
 the contact email if you plan to attend:\nPre%20Reg%20Form.docx\n\nFor
  more information visit https://northeastwheelsevents.com/events/miser
 icordia-university-s-classic-car-show
DTSTART:20150425T160000Z
DTEND:20150425T200000Z
CATEGORIES:fundraiser
LOCATION:Misericordia University
WEBSITE:https://www.facebook.com/MUPTECarShow
URL:https://www.facebook.com/MUPTECarShow
CONTACT:845-709-0589
ORGANIZER;CN=Emily:https://northeastwheelsevents.com/profile/Emily
ATTACH;FMTTYPE="image/jpeg":http://storage.ning.com/topology/rest/1.0/
 file/get/2284067546?profile=original
ATTENDEE;ROLE=REQ-PARTICIPANT;PARTSTAT=ACCEPTED;RSVP=TRUE;CN=Emily:htt
 ps://northeastwheelsevents.com/profile/Emily
END:VEVENT
END:VCALENDAR
