BEGIN:VCALENDAR
PRODID:NingEventWidget-v1
VERSION:2.0
METHOD:PUBLISH
BEGIN:VEVENT
UID:5167423:Event:62308
DTSTAMP:20260423T003359Z
SUMMARY:Mock Turtle Marionette Theatre Christmas Puppet Show
DESCRIPTION:Mock Turtle Marionette Theatre Christmas Puppet Show. Chri
 stmas Elf Workshop to follow. (Reservations Suggested – 610.432.4200
  x 14\n\nFOR MORE INFO PLEASE GO TO: http://americaonwheels.org/\n\nF
 or more information visit https://northeastwheelsevents.com/events/moc
 k-turtle-marionette-theatre-christmas-puppet-show
DTSTART:20141220T160000Z
DTEND:20141220T170000Z
CATEGORIES:holiday, exhibit, events, family, kids, fun, trains, museum
LOCATION:America On Wheels Museum
WEBSITE:http://americaonwheels.org/
URL:http://americaonwheels.org/
CONTACT:610-432-4200
ORGANIZER;CN="America On Wheels Museum":https://northeastwheelsevents.
 com/profile/americaonwheels
ATTACH;FMTTYPE="image/jpeg":
ATTENDEE;ROLE=REQ-PARTICIPANT;PARTSTAT=ACCEPTED;RSVP=TRUE;CN="America 
 On Wheels Museum":https://northeastwheelsevents.com/profile/americaonw
 heels
END:VEVENT
END:VCALENDAR
