BEGIN:VCALENDAR
PRODID:NingEventWidget-v1
VERSION:2.0
METHOD:PUBLISH
BEGIN:VEVENT
UID:5167423:Event:62410
DTSTAMP:20260423T033232Z
SUMMARY:Model Train Scavenger Hunt & Steam Engine Demo
DESCRIPTION:Model Train Scavenger Hunt & Steam Engine Demo. Outside (W
 eather Permitting)\n\nFOR MORE INFO PLEASE GO TO: http://americaonwhe
 els.org/\n\nFor more information visit https://northeastwheelsevents.c
 om/events/model-train-scavenger-hunt-steam-engine-demo
DTSTART:20141214T170000Z
DTEND:20141214T210000Z
CATEGORIES:holiday, exhibit, events, family, kids, fun, trains, museum
LOCATION:America On Wheels Museum
WEBSITE:http://americaonwheels.org/
URL:http://americaonwheels.org/
CONTACT:610-432-4200
ORGANIZER;CN="America On Wheels Museum":https://northeastwheelsevents.
 com/profile/americaonwheels
ATTACH;FMTTYPE="image/jpeg":http://storage.ning.com/topology/rest/1.0/
 file/get/2284064936?profile=original
ATTENDEE;ROLE=REQ-PARTICIPANT;PARTSTAT=ACCEPTED;RSVP=TRUE;CN="America 
 On Wheels Museum":https://northeastwheelsevents.com/profile/americaonw
 heels
END:VEVENT
END:VCALENDAR
