BEGIN:VCALENDAR
PRODID:NingEventWidget-v1
VERSION:2.0
METHOD:PUBLISH
BEGIN:VEVENT
UID:5167423:Event:109362
DTSTAMP:20260421T002758Z
SUMMARY:Mods Vs. Rockers
DESCRIPTION:Visit to see this summer exhibit here at the AACA Museum! 
 Mods and Rockers were two conflicting British youth subcultures of the
  1960s. This exhibit examines the “Mods & Rockers” era in the UK. 
 The Rocker subculture was centered on motorcycling, and their appearan
 ce reflected that. They generally wore protective clothing such as bla
 ck leather jackets and motorcycle boots (although they sometimes wore 
 “brothel creeper” shoes). The common Rocker hairstyle was a pompad
 our, while their music genre of choice was 1950s rock and roll, played
  by artists like Eddie Cochran, Gene Vincent, and Bo Diddley. The Mod 
 subculture was centered on fashion and music, and many mods rode scoot
 ers. Mods wore suits and other clean-cut outfits, and preferred 1960s 
 music genres such as soul, rhythm and blues, ska beat music and Britis
 h blues-rooted bands like The Who, The Yardbirds, and The Small Faces.
  The exhibit will feature approximately 12 period motorcycles and 12 p
 eriod scooters, along with material culture, photographs, and interpre
 tive posters. Not your average motorcycle / café bike exhibit…\n\nF
 or more information visit https://northeastwheelsevents.com/events/mod
 s-vs-rockers
DTSTART:20160408T040000Z
DTEND:20161016T035900Z
CATEGORIES:exhibit
LOCATION:AACA Museum
WEBSITE:http://www.aacamuseum.org/blog/2016/03/19/mods-vs-rockers/
URL:http://www.aacamuseum.org/blog/2016/03/19/mods-vs-rockers/
CONTACT:7175667100
ORGANIZER;CN="AACA Museum":https://northeastwheelsevents.com/profile/A
 ACAMuseum941
ATTACH;FMTTYPE="image/jpeg":http://storage.ning.com/topology/rest/1.0/
 file/get/2284085609?profile=original
ATTENDEE;ROLE=REQ-PARTICIPANT;PARTSTAT=ACCEPTED;RSVP=TRUE;CN="AACA Mus
 eum":https://northeastwheelsevents.com/profile/AACAMuseum941
ATTENDEE;ROLE=REQ-PARTICIPANT;PARTSTAT=TENTATIVE;RSVP=TRUE;CN="Robert 
 Woodward":https://northeastwheelsevents.com/profile/RobertWoodward
END:VEVENT
END:VCALENDAR
