BEGIN:VCALENDAR
PRODID:NingEventWidget-v1
VERSION:2.0
METHOD:PUBLISH
BEGIN:VEVENT
UID:5167423:Event:24057
DTSTAMP:20260422T124117Z
SUMMARY:MondiPolooza Ferrari Mondial gathering
DESCRIPTION:We're expecting about 20 Ferrari Mondials from all over th
 e country to be here at the AACA Museum parking in our front circle fo
 r all to enjoy.    \nYou're chance to enjoy some fabulous cars bot
 h inside and outside of the AACA Museum!\n\n\nFor more information vis
 it https://northeastwheelsevents.com/events/mondipolooza-ferrari-mondi
 al-gathering
DTSTART:20130629T133000Z
DTEND:20130629T153000Z
CATEGORIES:gathering
LOCATION:AACA Museum, Hershey PA
WEBSITE:http://www.AACAMuseum.org.
URL:http://www.AACAMuseum.org.
CONTACT:717 566-7100
ORGANIZER:AACA Museum
ATTACH;FMTTYPE="image/jpeg":http://storage.ning.com/topology/rest/1.0/
 file/get/2284053175?profile=original
ATTENDEE;ROLE=REQ-PARTICIPANT;PARTSTAT=ACCEPTED;RSVP=TRUE;CN="Pamela H
 irschhorn":https://northeastwheelsevents.com/profile/PamelaHirschhorn
END:VEVENT
END:VCALENDAR
