BEGIN:VCALENDAR
PRODID:NingEventWidget-v1
VERSION:2.0
METHOD:PUBLISH
BEGIN:VEVENT
UID:5167423:Event:325159
DTSTAMP:20260421T045258Z
SUMMARY:Monster Jam 2024-Allentown
DESCRIPTION:Monster Jam returns to Allentown, Pennsylvania at the PPL 
 Center, with the Arena Championship East Series. Saturday, July 13 to 
 Sunday, July 14, 2024. Grave Digger and many other Monster Truck compe
 titors scheduled.  The Pit Party is open from 10:30 am- 12:00pm, Satu
 rday & Sunday mornings. Get upclose with the drivers and their Monster
  vehicles. Get pictures, signatures and chat with your favorite driver
 s and crews. Buy your pit pass ticket when you buy your show ticket. M
 orning Gates open for general entry at 12:00pm both Sat. & Sun.. Eveni
 ng show, General Public gates open at 6:00 pm,  Sat.. Trackside Live 
 starts at 6:00pm on  Sat., mornings on Sat. & Sun., 12:00pm. With int
 erviews, rules, competitors list, starting line up and much more , rac
 e starts at 1:00pm, Sat. & Sun., Evening starts, 7:00pm, Sat.,  Group
  Tickets, call 610-224-4625. Ticket information for Monster Jam Allent
 own information: https://www.ticketmaster.com or https://www.pplcenter
 .com/events/all/ or https://www.eventticketscenter.com Call 610-224-4
 625\r\nfor more info.\r\n\r\nGo to https://www.monsterjam.com for the 
 full Monster Jam 2024 season schedule. \n\nFor more information visit
  https://northeastwheelsevents.com/events/monster-jam-2024-allentown-1
DTSTART:20240713T143000Z
DTEND:20240715T010000Z
CATEGORIES:monster, truck, race
LOCATION:PPL Center
WEBSITE:https://www.monsterjam.com
URL:https://www.monsterjam.com
CONTACT:610-224-4625
ORGANIZER:PPL Center
ATTACH;FMTTYPE="image/jpeg":https://storage.ning.com/topology/rest/1.0
 /file/get/12342694498?profile=original
ATTENDEE;ROLE=REQ-PARTICIPANT;PARTSTAT=ACCEPTED;RSVP=TRUE;CN="William 
 Bruce":https://northeastwheelsevents.com/profile/WilliamBruce
END:VEVENT
END:VCALENDAR
