BEGIN:VCALENDAR
PRODID:NingEventWidget-v1
VERSION:2.0
METHOD:PUBLISH
BEGIN:VEVENT
UID:5167423:Event:327023
DTSTAMP:20260425T222640Z
SUMMARY:Monster Jam 2024-Cincinnati Ohio
DESCRIPTION:Monster Jam returns to Cincinnati, Ohio at the Heritage Ba
 nk Center, with the Stadium Championship West Series. Saturday, August
  24 to Sunday, August 25, 2024. Grave Digger, El Toro Loco and many ot
 her Monster Truck competitors scheduled. The Pit Party is open from 10
 :30 am- 12:00pm, Saturday & Sunday mornings. Get upclose with the driv
 ers and their Monster vehicles. Get pictures, signatures and chat with
  your favorite drivers and crews. Buy your pit pass ticket when you bu
 y your show ticket. Morning Gates open for general entry at 12:00pm bo
 th Sat. & Sun.. Evening show, General Public gates open at 6:00 pm,  
 Sat.. Trackside Live starts at 6:15pm on Sat. Evening, the mornings on
  Sat. & Sun., 12:15pm. With interviews, rules, competitors list, start
 ing line up and much more , race starts at 1:00pm, Sat. & Sun., Evenin
 g starts, 7:00pm, Sat.,  Group Tickets sales, call 513-421-1302 or em
 ail khover@heritagebankcenter.com. Ticket information for Monster Jam 
 Cincinnati information: https://www.ticketmaster.com or https://herita
 gebankcenter.com or https://www.eventticketscenter.com Call 513-421-4
 111 or\r\nFax 513-333-3040 for more info.\r\n\r\nGo to https://www.mon
 sterjam.com for the full Monster Jam 2024 season schedule. \n\nFor mo
 re information visit https://northeastwheelsevents.com/events/monster-
 jam-2024-cincinnati-ohio
DTSTART:20240824T143000Z
DTEND:20240826T010000Z
CATEGORIES:monster, truck, race
LOCATION:Heritage Bank Center
WEBSITE:https://www.monsterjam.com
URL:https://www.monsterjam.com
CONTACT:513-421-4111
ORGANIZER:Heritage Bank Center
ATTACH;FMTTYPE="image/jpeg":https://storage.ning.com/topology/rest/1.0
 /file/get/12342694498?profile=original
ATTENDEE;ROLE=REQ-PARTICIPANT;PARTSTAT=ACCEPTED;RSVP=TRUE;CN="William 
 Bruce":https://northeastwheelsevents.com/profile/WilliamBruce
END:VEVENT
END:VCALENDAR
