BEGIN:VCALENDAR
PRODID:NingEventWidget-v1
VERSION:2.0
METHOD:PUBLISH
BEGIN:VEVENT
UID:5167423:Event:324178
DTSTAMP:20260424T130028Z
SUMMARY:Monster Jam 2024-Worcester
DESCRIPTION:Monster Jam returns to Worcester, Massachusetts at the DCU
  Center with the Arena Championship Central. Friday, February 16- Sund
 ay 18 2024, Grave Digger and many other Monster Truck competitors sche
 duled. The Pit Party is open from 10:30 am- 1:30pm, Saturday & Sunday.
  Get upclose with the drivers and their Monster vehicles. Get pictures
 , signatures and chat with your favorite drivers and crews. Buy your p
 it pass ticket when you buy your show ticket. Gates open for general e
 ntry atÂ  1:30pm, Trackside Live starts at 12:15pm Sat. &, Sun. And 6:
 15pm, Fri. & Sat.Â  interviews, rules, competitors list and much more 
 , race starts at 1:00pm, Sat.& Sun. And 7:00pm Fri. & Sat.Â  VIP Messa
 ge Board $50.00 per message, check site for info. Ticket information f
 or Monster Jam Worcester information: https://www.ticketmaster.com orÂ
   https://www.eventticketscenter.comÂ  email info@dcucenter.com, call 
 608-755-6800 or https://www.dcucenter.com for more info. Call 508-929-
 0125 or email groups@dcucenter.comÂ for more group ticket info. Go to 
 https://www.monsterjam.com for the full Monster Jam 2024 season schedu
 le.Â \n\nFor more information visit https://northeastwheelsevents.com/
 events/monster-jam-2024-worcester
DTSTART:20240216T153000Z
DTEND:20240219T020000Z
CATEGORIES:monster, truck, race
LOCATION:DCU Center
WEBSITE:https://www.monsterjam.com
URL:https://www.monsterjam.com
CONTACT:508-755-6800
ORGANIZER:DCU Center
ATTACH;FMTTYPE="image/jpeg":https://storage.ning.com/topology/rest/1.0
 /file/get/12342694498?profile=original
ATTENDEE;ROLE=REQ-PARTICIPANT;PARTSTAT=ACCEPTED;RSVP=TRUE;CN="William 
 Bruce":https://northeastwheelsevents.com/profile/WilliamBruce
END:VEVENT
END:VCALENDAR
