BEGIN:VCALENDAR
PRODID:NingEventWidget-v1
VERSION:2.0
METHOD:PUBLISH
BEGIN:VEVENT
UID:5167423:Event:335898
DTSTAMP:20260419T213340Z
SUMMARY:Monster Jam 2025-Allentown
DESCRIPTION:Monster Jam returns to Allentown, Pennsylvania at the PPL 
 Center, with the Arena Championship East Series. Friday, February 21 t
 o Sunday, February 23, 2024. Grave Digger and many other Monster Truck
  competitors scheduled. Check website for list. VIP Experience, a Mons
 ter Jam Message Board on the big screen at intermissions, $30.00, see 
 more info. on website.  The Pit Party is open from 10:30 am- 12:00 pm
 , Saturday & Sunday mornings. Get upclose with the drivers and their M
 onster vehicles. Get pictures, signatures and chat with your favorite 
 drivers and crews. Buy your pit pass ticket when you buy your show tic
 ket. Morning Gates open for general entry at 12:00pm both Sat. & Sun..
  Evening show, General Public gates open at 6:00 pm, Fri. & Sat. And 5
 :30pm Sun. Trackside Live starts at 6:15pm on Fri. & Sat., 5:45pm Sun.
 , mornings on Sat. & Sun., 12:15pm. With   interviews, rules, compet
 itors list, starting line up and much more , race starts at 1:00pm, Sa
 t. & Sun., Evening starts, 7:00pm, Fri. & Sat., 6:30pm Sun. Post Event
 s starts right after races. Meet and greet the drivers and crews for p
 ictures, autographs and more. You recirve a flag to wave and get signe
 d.  Group Tickets, call 610-224-4625. Ticket information for Monster 
 Jam Allentown information: https://www.ticketmaster.com or  https://w
 ww.eventticketscenter.com Call 610-224-4625\r\nfor more info. Go to ht
 tps://www.monsterjam.com for the full Monster Jam 2025 season schedule
 . \n\nFor more information visit https://northeastwheelsevents.com/ev
 ents/monster-jam-2025-allentown
DTSTART:20250221T153000Z
DTEND:20250224T020000Z
CATEGORIES:monster, truck, race
LOCATION:PPL Center
WEBSITE:https://www.monsterjam.com
URL:https://www.monsterjam.com
CONTACT:610-224-4625
ORGANIZER:PPL Center
ATTACH;FMTTYPE="image/jpeg":https://storage.ning.com/topology/rest/1.0
 /file/get/12342694498?profile=original
ATTENDEE;ROLE=REQ-PARTICIPANT;PARTSTAT=ACCEPTED;RSVP=TRUE;CN="William 
 Bruce":https://northeastwheelsevents.com/profile/WilliamBruce
END:VEVENT
END:VCALENDAR
