BEGIN:VCALENDAR
PRODID:NingEventWidget-v1
VERSION:2.0
METHOD:PUBLISH
BEGIN:VEVENT
UID:5167423:Event:337195
DTSTAMP:20260419T194240Z
SUMMARY:Monster Jam 2025- Cleveland
DESCRIPTION:Monster Jam returns to Cleveland, Ohio at the Rocket Mortg
 age Fieldhouse with the Arena Championship East series. Friday, Febuar
 y 14- Sunday, Febuary 16, 2025, Grave Digger and many other Monster Tr
 uck competitors scheduled. The Pit Party is open from 10:30 am- 12:00 
 pm, Sat. And Sun. Get upclose with the drivers and their Monster vehic
 les. Get pictures, signatures and chat with your favorite drivers and 
 crews. Buy your Pit Pass ticket when you buy your show ticket. Gates o
 pen for general entry at 12pm, Sat. And Sun. and 6pm, Fri and Sat. Tra
 ckside Live starts at 12:15pm and 6:15pm, check schedules. With interv
 iews, rules, competitors list and much more , race starts at 1:00pm Sa
 t. & Sun.,  & 7:00 pm. Fri. & Sat.. Pit Post Race interviews start af
 ter the races end. Ticket information for Monster Jam Cleveland: http
 s://www.ticketmaster.com or  https://www.eventticketscenter.com  Cal
 l 416-420-2153  for group sales, tickets and for more info. Or visit 
 https://www.rocketmortgagefieldhouse.com Monster Jam VIP jumbo tron m
 essage board, new low price $30.00 a message, other VIP specials avail
 able, check website for info. Go to https://www.monsterjam.com for the
  full Monster Jam 2025 season schedule. \n\nFor more information visi
 t https://northeastwheelsevents.com/events/monster-jam-2025-cleveland
DTSTART:20250214T153000Z
DTEND:20250217T020000Z
CATEGORIES:monster, truck, race
LOCATION:Rocket Mortgage Fieldhouse
WEBSITE:https://www.monsterjam.com
URL:https://www.monsterjam.com
CONTACT:216-420-2200
ORGANIZER:FELD Entertainment
ATTACH;FMTTYPE="image/jpeg":https://storage.ning.com/topology/rest/1.0
 /file/get/12342694888?profile=original
ATTENDEE;ROLE=REQ-PARTICIPANT;PARTSTAT=ACCEPTED;RSVP=TRUE;CN="William 
 Bruce":https://northeastwheelsevents.com/profile/WilliamBruce
END:VEVENT
END:VCALENDAR
