BEGIN:VCALENDAR
PRODID:NingEventWidget-v1
VERSION:2.0
METHOD:PUBLISH
BEGIN:VEVENT
UID:5167423:Event:338105
DTSTAMP:20260421T105811Z
SUMMARY:Monster Jam 2025-Hartford
DESCRIPTION:Monster Jam returns to Hartford, Connecticut at the XL Cen
 ter, with the Arena Championship Central Series. Saturday, MarchÂ Â 29
 , 2025, and Sunday, March 30, 2025. Grave Digger and many other Monste
 r Truck competitors scheduled. The Pit Party is open from 10:30 am- 12
 :00pm, Saturday and Sunday Matinee, 5:30pm Sat. Evening. Get upclose w
 ith the drivers and their Monster vehicles. Get pictures, signatures a
 nd chat with your favorite drivers and crews.Photos/ Autographs too!Â 
  Buy your pit pass ticket when you buy your show ticket. Gates open fo
 r general entry at 12:00pm, & 6:00pm. Trackside Live starts at 12:15pm
  & 6:15pm, with interviews, rules, competitors list and much more , ra
 ce starts at 1:00pm, Sat. & Sun., 7:00pm, Sat. Evening. Also Trackside
  Live Post Race, meet and greet with the drivers, right after each rac
 e. Get your souvenir flag signed by your favorite drivers.\r\nVIP Expe
 riences:Â 2025 Monster Jam VIP Message Board\r\nRegular price, now onl
 yÂ $30 PER PERSON.Â \r\nCelebrate your special day by displaying your 
 message on the massive stadium screen during the event.Â  Tell everyon
 e itâ€™s your birthday, thank that special person, tell a driver good 
 luck from you!Â  Itâ€™s your message on display to all in attendance!Â
  Â \r\nYour message will play during intermission. This purchase does 
 not require check-in at the event. Rules on webpage!Â \r\nTruckÂ Displ
 ay\r\n\r\nGRAVE DIGGER\r\n\r\n\r\nDate & Time:Â Thursday, March 27 202
 5 from 4:00PM â€“ 8:00PM\r\n\r\n\r\nLocation:Â Texas Roadhouse â€“ 55 
 Shunpike Road, Cromwell, CT 06416\r\n\r\n\r\n\r\n* Truck subject to ch
 ange.\r\n\r\n\r\n\r\nMonday March 3, 2025,Â  Get your \"buy three get 
 one FREE\" ticket coupon at participating Texas Roadhouse locations!\r
 \n\r\n\r\n\r\n*Terms and conditions apply. See coupon or website for m
 ore information.\r\n\r\nShow information for Monster Jam Hartford: htt
 ps://www.monsterjam.com or https://www.xlcenter.com search for Hartfor
 d. Ticket info.Â https://www.ticketmaster.com orÂ  https://www.eventti
 cketscenter.com Call 868-548-2000 or emailÂ  groupsales@xlcenter.com f
 or group tickets andÂ Â info. Go to https://www.monsterjam.com for the
  full Monster Jam 2025 season schedule.Â \n\nFor more information visi
 t https://northeastwheelsevents.com/events/monster-jam-2025-hartford
DTSTART:20250329T143000Z
DTEND:20250331T010000Z
CATEGORIES:monster, truck, race
LOCATION:XL Center
WEBSITE:https://www.monsterjam.com/en-us/events/hartford-ct/mar-29-202
 5-mar-30-2025/
URL:https://www.monsterjam.com/en-us/events/hartford-ct/mar-29-2025-ma
 r-30-2025/
CONTACT:860-249-6333
ORGANIZER:XL Group
ATTACH;FMTTYPE="image/jpeg":https://storage.ning.com/topology/rest/1.0
 /file/get/12342694498?profile=original
ATTENDEE;ROLE=REQ-PARTICIPANT;PARTSTAT=ACCEPTED;RSVP=TRUE;CN="William 
 Bruce":https://northeastwheelsevents.com/profile/WilliamBruce
END:VEVENT
END:VCALENDAR
