BEGIN:VCALENDAR
PRODID:NingEventWidget-v1
VERSION:2.0
METHOD:PUBLISH
BEGIN:VEVENT
UID:5167423:Event:347575
DTSTAMP:20260425T210316Z
SUMMARY:Monster Jam 2026-Buffalo
DESCRIPTION:Monster Jam returns to Buffalo, New York at the MVP Arena,
  with the Arena Championship West Series. Friday, Febuary 20, 2026, an
 d Saturday, Febuary, 22 2026. Grave Digger and many other Monster Truc
 k competitors scheduled. The Pit Party is open from 09:30 am- 11:00am,
  Saturday and Sunday. Get upclose with the drivers and their Monster v
 ehicles. Get pictures, signatures and chat with your favorite drivers 
 and crews. Buy your pit pass ticket when you buy your show ticket. Gat
 es open for General entry at 11:00am, Sat. & 6:00pm, Fri. and 5:00pm S
 at. evening shows. Trackside Live starts 15 minutes later. Race starts
  at 12:00pm Sat. andÂ  Trackside Live starts Sat. at 11:15am. Friday r
 ace starts 7:00 pm and Sat. 6:00 pm.Â The best kept secret, the Monste
 r JamÂ® Post-Event Driver Meet and Greet is your most exclusive opport
 unity to meet and mingle with the drivers shortly after the event! Tak
 e photos, get autographs and hear competition takeaways from the drive
 rs in a private event space. Plus, you get an official Monster Jam sou
 venir with your ticket. Space is limited, so get your tickets now! Cal
 lÂ Jacob Bett\r\n716-855-4433 for group sales.\r\n2026 Monster Jam VIP
  Message Board- Buffalo, NY\r\nLower Regular priceÂ $30 PER PERSON, ch
 eck website for info.Â \r\nTrackside Live starts at 6:15pm Friday, 11:
 15pm & 6:15pm, Saturday, and 11:15pm, Sunday, with interviews, rules, 
 competitors list, line ups and much more , race starts at 12:00pm, Sat
 . &, 7:00pm, Fri. and 6:00pm Sat. Evening. Also Trackside Post Race, m
 eet and greet with the drivers, right after each race. Get your souven
 ir flag signed by your favorite drivers. Finish scores and info.\r\nSh
 ow information for Monster Jam-Albany:Â Â https://www.monsterjam.com Â
  search for Albany. Ticket info.Â https://www.ticketmaster.com orÂ  ht
 tps://www.eventticketscenter.comÂ or https://www.keybankcenter.com/eve
 nts forÂ tickets andÂ  show info. Go to https://www.monsterjam.com for
  the full Monster Jam 2026 season schedule.Â \n\nFor more information 
 visit https://northeastwheelsevents.com/events/monster-jam-2026-buffal
 o
DTSTART:20260220T153000Z
DTEND:20260223T020000Z
CATEGORIES:monster-truck, race
LOCATION:KeyBank Center
WEBSITE:https://www.monsterjam.com
URL:https://www.monsterjam.com
CONTACT:716-855-4100
ORGANIZER:KeyBank Center
ATTACH;FMTTYPE="image/jpeg":https://storage.ning.com/topology/rest/1.0
 /file/get/12342694498?profile=original
ATTENDEE;ROLE=REQ-PARTICIPANT;PARTSTAT=ACCEPTED;RSVP=TRUE;CN="William 
 Bruce":https://northeastwheelsevents.com/profile/WilliamBruce
ATTENDEE;ROLE=REQ-PARTICIPANT;PARTSTAT=TENTATIVE;RSVP=TRUE;CN="William
  E. Bruce":https://northeastwheelsevents.com/profile/WilliamEBruce
END:VEVENT
END:VCALENDAR
