BEGIN:VCALENDAR
PRODID:NingEventWidget-v1
VERSION:2.0
METHOD:PUBLISH
BEGIN:VEVENT
UID:5167423:Event:348117
DTSTAMP:20260421T092652Z
SUMMARY:Monster Jam 2026-Worcester, Ma
DESCRIPTION:Monster Jam returns to Worcester, Massachusetts at the DCU
  Center with the Arena Championship Central. Friday, May 08- Sunday, M
 ay 10 2026, Grave Digger and many other Monster Truck competitors sche
 duled. The Pit Party is open from 09:30 am- 11:00am, Saturday & 10:30a
 m- 12:00pm Sunday. Get upclose with the drivers and their Monster vehi
 cles. Get pictures, signatures and chat with your favorite drivers and
  crews. Buy your pit pass ticket when you buy your show ticket. Gates 
 open for general entry at 11:00am and , Trackside Live starts at 11:15
 am Sat. &, 12:15pm Sun. And 06:15pm, Fri. & 05:15pm Sat.  interviews,
  rules, competitors list and much more , race starts at 12:00pm, Sat.&
  01:00 pm Sun. And 07:00pm Fri. & 06:00pm Sat.  Post Race Live, with 
 interviews, results,  etc. starts just after races start. VIP Message
  Board ia a reduced $30.00 per message, check site for info. Ticket in
 formation for Monster Jam Worcester information: https://www.ticketmas
 ter.com or  https://www.eventticketscenter.com  email info@dcucenter
 .com, call 608-755-6800 or https://www.dcucenter.com for more info. Ca
 ll 508-929-0125 or email groups@dcucenter.com for more group ticket i
 nfo. Go to https://www.monsterjam.com for the full Monster Jam 2026 se
 ason schedule. \n\nFor more information visit https://northeastwheels
 events.com/events/monster-jam-2026-worcester-ma
DTSTART:20260508T143000Z
DTEND:20260511T010000Z
CATEGORIES:monster, truck, race
LOCATION:DCU Center
WEBSITE:https://www.monsterjam.com/en-us/events/worcester-ma/may-08-20
 26-may-10-2026/
URL:https://www.monsterjam.com/en-us/events/worcester-ma/may-08-2026-m
 ay-10-2026/
CONTACT:508-755-6800
ORGANIZER:DCU Center
ATTACH;FMTTYPE="image/jpeg":https://storage.ning.com/topology/rest/1.0
 /file/get/12342694498?profile=original
ATTENDEE;ROLE=REQ-PARTICIPANT;PARTSTAT=ACCEPTED;RSVP=TRUE;CN="William 
 Bruce":https://northeastwheelsevents.com/profile/WilliamBruce
END:VEVENT
END:VCALENDAR
