BEGIN:VCALENDAR
PRODID:NingEventWidget-v1
VERSION:2.0
METHOD:PUBLISH
BEGIN:VEVENT
UID:5167423:Event:303900
DTSTAMP:20260425T231826Z
SUMMARY:MOPAR Madness of the Lehigh Valley
DESCRIPTION:Come out and join us for a great cruise and support Dream 
 Come True of the Lehigh Valley.\n\nFor more information visit https://
 northeastwheelsevents.com/events/mopar-madness-of-the-lehigh-valley-1
DTSTART:20220813T210000Z
DTEND:20220814T000000Z
CATEGORIES:car, cruise
LOCATION:Emmaus Community Park
WEBSITE:http://www.Facebook.com/mopar-madness-of-the-lehigh-valley
URL:http://www.Facebook.com/mopar-madness-of-the-lehigh-valley
CONTACT:
ORGANIZER;CN="John G Guignet":https://northeastwheelsevents.com/profil
 e/JohnGGuignet
ATTACH;FMTTYPE="image/jpeg":
ATTENDEE;ROLE=REQ-PARTICIPANT;PARTSTAT=ACCEPTED;RSVP=TRUE;CN="Rene Zel
 ko":https://northeastwheelsevents.com/profile/ReneZelko
ATTENDEE;ROLE=REQ-PARTICIPANT;PARTSTAT=ACCEPTED;RSVP=TRUE;CN="John G G
 uignet":https://northeastwheelsevents.com/profile/JohnGGuignet
END:VEVENT
END:VCALENDAR
