BEGIN:VCALENDAR
PRODID:NingEventWidget-v1
VERSION:2.0
METHOD:PUBLISH
BEGIN:VEVENT
UID:5167423:Event:321422
DTSTAMP:20260422T183626Z
SUMMARY:Mopar Muscle 24th Annual All Mopar Show
DESCRIPTION:\n24th Annual Car Show benefiting Local Children's Chariti
 es. Music, Food Vendors, Chinese Auction, and so much more. \nHere to
  save you time, and $$$$ 5 dollars off Show Day Entry which is Midnigh
 t 9/14 to register. Go to our .com site to save, and register. Payment
 s will be the day of the event. https://www.moparmuscleofcentralpa.com
 /\n\n\nFor more information visit https://northeastwheelsevents.com/ev
 ents/mopar-muscle-24th-annual-all-mopar-show
DTSTART:20230916T130000Z
DTEND:20230916T190000Z
CATEGORIES:local, community, charities, car, "show/cruise", ins
LOCATION:Kaiser Brothers Dodge, Chrysler, Jeep and Ram
WEBSITE:https://www.facebook.com/events/547184277027710/
URL:https://www.facebook.com/events/547184277027710/
CONTACT:570-974-1923
ORGANIZER:Mopar Muscle of Central Pa.
ATTACH;FMTTYPE="image/jpeg":https://storage.ning.com/topology/rest/1.0
 /file/get/12224001267?profile=original
ATTENDEE;ROLE=REQ-PARTICIPANT;PARTSTAT=ACCEPTED;RSVP=TRUE;CN="Charlie 
 D. Lumbard":https://northeastwheelsevents.com/profile/CharlieDLumbard
END:VEVENT
END:VCALENDAR
