BEGIN:VCALENDAR
PRODID:NingEventWidget-v1
VERSION:2.0
METHOD:PUBLISH
BEGIN:VEVENT
UID:5167423:Event:301546
DTSTAMP:20260422T150948Z
SUMMARY:MOPAR MUSCLE SHOW 23
DESCRIPTION:23rd Annual.  Supporting Local Children's Charities. Musi
 c, Food, Table Auction, and most of all History on the Lot. Click the 
 link for the Facebook Event, and here.  We'll save you a spot.\n\n h
 ttps://www.facebook.com/events/7003762839664692 \n\nFor more informati
 on visit https://northeastwheelsevents.com/events/mopar-muscle-show-23
DTSTART:20220917T130000Z
DTEND:20220917T193000Z
CATEGORIES:"children's", charities, car, show
LOCATION:3360 State Route 405, Muncy, Pa 17756
WEBSITE:https://goo.gl/maps/8bWddwTJUL5avGTdA
URL:https://goo.gl/maps/8bWddwTJUL5avGTdA
CONTACT:570-974-1923
ORGANIZER:MOPAR MUSCLE OF CENTRAL PA
ATTACH;FMTTYPE="image/jpeg":https://storage.ning.com/topology/rest/1.0
 /file/get/10520452083?profile=original
ATTENDEE;ROLE=REQ-PARTICIPANT;PARTSTAT=ACCEPTED;RSVP=TRUE;CN="Charlie 
 D. Lumbard":https://northeastwheelsevents.com/profile/CharlieDLumbard
END:VEVENT
END:VCALENDAR
