BEGIN:VCALENDAR
PRODID:NingEventWidget-v1
VERSION:2.0
METHOD:PUBLISH
BEGIN:VEVENT
UID:5167423:Event:153693
DTSTAMP:20260423T010043Z
SUMMARY:MOPAR or No Car!
DESCRIPTION:The Simeone Foundation Automotive Museum is proud to annou
 nce our newest Special Exhibit, “Mopar or No Car”, which will be h
 eld from June 17th to July 9th, 2017. Join us in celebrating the rich 
 history of one of America’s oldest and greatest automotive manufactu
 rers. We’ll have approximately 12 cars on display from the early 196
 0s through 2017, representing an exciting array of Mopar sports cars f
 rom Dodge, Chrysler, Plymouth, and SRT.\n\nFor more information visit 
 https://northeastwheelsevents.com/events/mopar-or-no-car
DTSTART:20170617T140000Z
DTEND:20170709T200000Z
CATEGORIES:exhibition
LOCATION:The Simeone Museum
WEBSITE:http://www.simeonemuseum.org/museum-news/special-exhibit-mopar
 -no-car-june-17th-july-9th-2017
URL:http://www.simeonemuseum.org/museum-news/special-exhibit-mopar-no-
 car-june-17th-july-9th-2017
CONTACT:215-365-7233
ORGANIZER;CN="The Simeone Museum":https://northeastwheelsevents.com/pr
 ofile/TheSimeoneMuseum
ATTACH;FMTTYPE="image/jpeg":http://storage.ning.com/topology/rest/1.0/
 file/get/2284099898?profile=original
ATTENDEE;ROLE=REQ-PARTICIPANT;PARTSTAT=ACCEPTED;RSVP=TRUE;CN="The Sime
 one Museum":https://northeastwheelsevents.com/profile/TheSimeoneMuseum
END:VEVENT
END:VCALENDAR
