BEGIN:VCALENDAR
PRODID:NingEventWidget-v1
VERSION:2.0
METHOD:PUBLISH
BEGIN:VEVENT
UID:5167423:Event:161311
DTSTAMP:20260420T150739Z
SUMMARY:Mopars for the Military
DESCRIPTION:Classic and Modern Mopars are welcome, this is the 3rd Ann
 ual show but this year we have moved from York to Maple Grove Raceway,
  More Classes, More Trophies, more food, more Entertainment.\n\nCome o
 ut for the Drag racing, 50/50 game and prize drawings.\n\nGates open a
 t 1pm for the car show, if you want to be part of the drag racing come
  early and the entry fee is $35.\n\nProceeds go to the Keystone Warrio
 rs Foundation.\n\nFor more information visit https://northeastwheelsev
 ents.com/events/mopars-for-the-military-1
DTSTART:20170909T170000Z
DTEND:20170909T220000Z
CATEGORIES:car, show
LOCATION:Maple Grove Raceway
WEBSITE:http://www.Pa Modern Mopar.com
URL:http://www.Pa Modern Mopar.com
CONTACT:4844642582
ORGANIZER:
ATTACH;FMTTYPE="image/jpeg":http://storage.ning.com/topology/rest/1.0/
 file/get/2284098446?profile=original
ATTENDEE;ROLE=REQ-PARTICIPANT;PARTSTAT=ACCEPTED;RSVP=TRUE;CN="Mike bro
 wn":https://northeastwheelsevents.com/profile/MikeBrown
END:VEVENT
END:VCALENDAR
