BEGIN:VCALENDAR
PRODID:NingEventWidget-v1
VERSION:2.0
METHOD:PUBLISH
BEGIN:VEVENT
UID:5167423:Event:61780
DTSTAMP:20260423T052514Z
SUMMARY:Morgantown(PA) Toy Car Extravaganza
DESCRIPTION:Thousands of toy cars- slot cars, die cast, model cars an
 d racing memorabilia.  Plus a model show and contest, Model Car Alley
  Racing, Slot Car drag strip and an ECHORR race.\nAdmission $5 ;  Kid
 s 12 & under FREE\nEarly birds $10 at 8:30am\n\nFor more information v
 isit https://northeastwheelsevents.com/events/morgantown-pa-toy-car-ex
 travaganza
DTSTART:20141214T150000Z
DTEND:20141214T190000Z
CATEGORIES:toy, car, show
LOCATION:Holiday Inn - less than 1mi off PA Trnpk exit #298
WEBSITE:http://www.resindude.com
URL:http://www.resindude.com
CONTACT:717-445-5448
ORGANIZER;CN="Felicia Swavely":https://northeastwheelsevents.com/profi
 le/FeliciaSwavely
ATTACH;FMTTYPE="image/jpeg":http://storage.ning.com/topology/rest/1.0/
 file/get/2284064706?profile=original
ATTENDEE;ROLE=REQ-PARTICIPANT;PARTSTAT=ACCEPTED;RSVP=TRUE;CN="Felicia 
 Swavely":https://northeastwheelsevents.com/profile/FeliciaSwavely
END:VEVENT
END:VCALENDAR
