BEGIN:VCALENDAR
PRODID:NingEventWidget-v1
VERSION:2.0
METHOD:PUBLISH
BEGIN:VEVENT
UID:5167423:Event:143328
DTSTAMP:20260423T010346Z
SUMMARY:Morrisville Labor Car Show
DESCRIPTION:Family day food, music, vendors, displays, registration $1
 5 for cars rain date 9/9/17 all money goes to Pa Wounded Warriors\n\nF
 or more information visit https://northeastwheelsevents.com/events/mor
 risville-labor-car-show-1
DTSTART:20170904T140000Z
DTEND:20170904T180000Z
CATEGORIES:car, show
LOCATION:Williamson Park
WEBSITE:http://delawarevalleyroadrunners
URL:http://delawarevalleyroadrunners
CONTACT:2155106629
ORGANIZER;CN="Len Pribish":https://northeastwheelsevents.com/profile/L
 enPribish
ATTACH;FMTTYPE="image/jpeg":
ATTENDEE;ROLE=REQ-PARTICIPANT;PARTSTAT=ACCEPTED;RSVP=TRUE;CN="Len Prib
 ish":https://northeastwheelsevents.com/profile/LenPribish
END:VEVENT
END:VCALENDAR
