BEGIN:VCALENDAR
PRODID:NingEventWidget-v1
VERSION:2.0
METHOD:PUBLISH
BEGIN:VEVENT
UID:5167423:Event:20735
DTSTAMP:20260423T184301Z
SUMMARY:Motor Mania
DESCRIPTION:10 am to 3 pm\nCar, Truck and Motorcycle Show and Giant Fl
 ea Market to be held at the Schaghticoke Fairgrounds, Route 40, Schagh
 ticoke, NY, 12154.\n*$10 registration fee *$2.00 Spectator Admission w
 ith children 13 and under FREE *Trophies for cars, trucks and motorcyc
 les *Dash Plaques *Goody Bags *Chinese Auction * Food *Music * Games *
 Bounce House for the Kids *50/50 Raffle for the Veteran’s Building o
 n the grounds of the fairgrounds *Much More *A day of fun for the whol
 e family *Displays presented by Early Engine Club and the Adirondack L
 ive Steamers.\nThis show is open to all cars, trucks and motorcycles o
 f any year.\nThis event is sponsored by Rolis Muscle Cars, LLC and Cas
 tle Agency, Inc and Hagerty Insurance.\n For more information please 
 call Rolis Muscle Cars, LLC at 518-753-7446.  Automotive Vendors and 
 Crafters are still wanted - $25 per 12x12 space\n\nFor more informatio
 n visit https://northeastwheelsevents.com/events/motor-mania
DTSTART:20130615T040000Z
DTEND:20130616T035900Z
CATEGORIES:fundraiser
LOCATION:Schaghticoke Fair Grounds
WEBSITE:http://rolisauto.com
URL:http://rolisauto.com
CONTACT:518-753-7446
ORGANIZER;CN="Jeanie Chura":https://northeastwheelsevents.com/profile/
 JeanieChura
ATTACH;FMTTYPE="image/jpeg":http://storage.ning.com/topology/rest/1.0/
 file/get/2284049833?profile=original
ATTENDEE;ROLE=REQ-PARTICIPANT;PARTSTAT=ACCEPTED;RSVP=TRUE;CN="Jeanie C
 hura":https://northeastwheelsevents.com/profile/JeanieChura
END:VEVENT
END:VCALENDAR
