BEGIN:VCALENDAR
PRODID:NingEventWidget-v1
VERSION:2.0
METHOD:PUBLISH
BEGIN:VEVENT
UID:5167423:Event:310622
DTSTAMP:20260421T215707Z
SUMMARY:Motor Menders Rod And Custom 29th Annual Firecracker Rod Run
DESCRIPTION:$15 pre registration, $20 Day of Show. Dash plaques and go
 odie bags to first 200. 50/50 drawings at 11:30 and 2:00. NSRA Safety 
 Inspection, Music, Chinese Auction. Food and Ice Cream available.\n\nF
 or more information visit https://northeastwheelsevents.com/events/mot
 or-menders-rod-and-custom-29th-annual-firecracker-rod-run
DTSTART:20230702T130000Z
DTEND:20230702T190000Z
CATEGORIES:rod, run
LOCATION:Brookside Park
WEBSITE:
URL:
CONTACT:
ORGANIZER;CN="Steve Smith":https://northeastwheelsevents.com/profile/S
 teveSmith
ATTACH;FMTTYPE="image/jpeg":https://storage.ning.com/topology/rest/1.0
 /file/get/10946739062?profile=original
ATTENDEE;ROLE=REQ-PARTICIPANT;PARTSTAT=ACCEPTED;RSVP=TRUE;CN="David V.
  Busler":https://northeastwheelsevents.com/profile/DavidVBusler
ATTENDEE;ROLE=REQ-PARTICIPANT;PARTSTAT=ACCEPTED;RSVP=TRUE;CN="Steve Sm
 ith":https://northeastwheelsevents.com/profile/SteveSmith
END:VEVENT
END:VCALENDAR
