BEGIN:VCALENDAR
PRODID:NingEventWidget-v1
VERSION:2.0
METHOD:PUBLISH
BEGIN:VEVENT
UID:5167423:Event:316368
DTSTAMP:20260422T021900Z
SUMMARY:Motor Menders Rod And Custom Cruise Night Rain Date
DESCRIPTION:$2 donation, Dash plaques, 3 trophies, 50/50 drawing, DJ p
 laying oldies, Good Food.\n\nFor more information visit https://northe
 astwheelsevents.com/events/motor-menders-rod-and-custom-cruise-night-r
 ain-date
DTSTART:20230630T200000Z
DTEND:20230701T000000Z
CATEGORIES:cruise, in
LOCATION:Markets At Shrewsbury
WEBSITE:http://marketsatshrewsbury.com
URL:http://marketsatshrewsbury.com
CONTACT:
ORGANIZER:Steve Smith
ATTACH;FMTTYPE="image/jpeg":https://storage.ning.com/topology/rest/1.0
 /file/get/10946728884?profile=original
ATTENDEE;ROLE=REQ-PARTICIPANT;PARTSTAT=ACCEPTED;RSVP=TRUE;CN="Pamela H
 irschhorn":https://northeastwheelsevents.com/profile/PamelaHirschhorn
END:VEVENT
END:VCALENDAR
