BEGIN:VCALENDAR
PRODID:NingEventWidget-v1
VERSION:2.0
METHOD:PUBLISH
BEGIN:VEVENT
UID:5167423:Event:17402
DTSTAMP:20260421T140424Z
SUMMARY:MOTOR TREND INTERNATIONAL AUTO SHOW
DESCRIPTION:\nHundreds of new cars, trucks, sport/utility vehicles, cr
 ossovers and more will roll into the Baltimore Convention Center for t
 he 2013 Motor Trend International Auto Show – Baltimore. Attendees a
 re invited to check out all the latest rides in a non-selling environm
 ent, sit behind the wheels, inspect engines, kick the tires and even t
 ake a spin in several new models. From the newest electric cars to the
  hottest luxury rides, the Motor Trend International Auto Show – Bal
 timore offers something for everyone.\n\n\nThursday, February 7    
 12 noon – 10 p.m.Friday, February 8         10 a.m. – 10 p.
 m.Saturday, February 9     10 a.m. – 10 p.m.Sunday, February 10 
     10 a.m. – 7 p.m.\n\n\n\n\nFor more information visit https://n
 ortheastwheelsevents.com/events/motor-trend-international-auto-show
DTSTART:20130207T170000Z
DTEND:20130211T000000Z
CATEGORIES:auto, show
LOCATION:Baltimore Convention Center Baltimore, MD 21201
WEBSITE:http://www.motortrendautoshows.com/baltimore/generalinfo.jsp
URL:http://www.motortrendautoshows.com/baltimore/generalinfo.jsp
CONTACT:410 649-7000
ORGANIZER:Motor Trend Auto Shows
ATTACH;FMTTYPE="image/jpeg":http://storage.ning.com/topology/rest/1.0/
 file/get/2284053066?profile=original
ATTENDEE;ROLE=REQ-PARTICIPANT;PARTSTAT=ACCEPTED;RSVP=TRUE;CN="Pamela H
 irschhorn":https://northeastwheelsevents.com/profile/PamelaHirschhorn
END:VEVENT
END:VCALENDAR
